BEGIN:VCALENDAR
VERSION:2.0
PRODID:-//La Cadière d&#039;Azur - ECPv6.14.2//NONSGML v1.0//EN
CALSCALE:GREGORIAN
METHOD:PUBLISH
X-WR-CALNAME:La Cadière d&#039;Azur
X-ORIGINAL-URL:https://lacadieredazur.fr
X-WR-CALDESC:Évènements pour La Cadière d&#039;Azur
REFRESH-INTERVAL;VALUE=DURATION:PT1H
X-Robots-Tag:noindex
X-PUBLISHED-TTL:PT1H
BEGIN:VTIMEZONE
TZID:Europe/Paris
BEGIN:DAYLIGHT
TZOFFSETFROM:+0100
TZOFFSETTO:+0200
TZNAME:CEST
DTSTART:20260329T010000
END:DAYLIGHT
BEGIN:STANDARD
TZOFFSETFROM:+0200
TZOFFSETTO:+0100
TZNAME:CET
DTSTART:20261025T010000
END:STANDARD
END:VTIMEZONE
BEGIN:VEVENT
DTSTART;TZID=Europe/Paris:20260423T183000
DTEND;TZID=Europe/Paris:20260423T203000
DTSTAMP:20260421T093157
CREATED:20260417T174549Z
LAST-MODIFIED:20260421T071830Z
UID:10137-1776969000-1776976200@lacadieredazur.fr
SUMMARY:Prochain Conseil Municipal
DESCRIPTION:Prochain Conseil Municipal\n\n\n\n\n\n\n\n📅 Jeudi 23 avril 2026\n\n\n🕔 À 18h30\n\n\n📍 Salle Espace Culturel\, parking Charles de Gaulle\n\nOrdre du jour : Avis du prochain Conseil Municipal du 23 avril 2026\n\n \n\n\n La séance sera 𝐨𝐮𝐯𝐞𝐫𝐭𝐞 𝐚𝐮 𝐩𝐮𝐛𝐥𝐢𝐜 et également en direct sur notre chaîne YouTube.\n\n\n 👉Lien de notre chaîne YouTube @mairiedelacadieredazur5542 : https://www.youtube.com/@mairiedelacadieredazur5542
URL:https://lacadieredazur.fr/evenement/seance-dinstallation-du-conseil-municipal/
LOCATION:Espace Culturel
END:VEVENT
END:VCALENDAR